BEGIN:VCALENDAR
VERSION:2.0
PRODID:-//Semana de la Ciencia - ECPv6.15.20//NONSGML v1.0//EN
CALSCALE:GREGORIAN
METHOD:PUBLISH
X-WR-CALNAME:Semana de la Ciencia
X-ORIGINAL-URL:https://sct.webs.upv.es/ca
X-WR-CALDESC:Esdeveniments per Semana de la Ciencia
REFRESH-INTERVAL;VALUE=DURATION:PT1H
X-Robots-Tag:noindex
X-PUBLISHED-TTL:PT1H
BEGIN:VTIMEZONE
TZID:Europe/Madrid
BEGIN:DAYLIGHT
TZOFFSETFROM:+0100
TZOFFSETTO:+0200
TZNAME:CEST
DTSTART:20210328T010000
END:DAYLIGHT
BEGIN:STANDARD
TZOFFSETFROM:+0200
TZOFFSETTO:+0100
TZNAME:CET
DTSTART:20211031T010000
END:STANDARD
BEGIN:DAYLIGHT
TZOFFSETFROM:+0100
TZOFFSETTO:+0200
TZNAME:CEST
DTSTART:20220327T010000
END:DAYLIGHT
BEGIN:STANDARD
TZOFFSETFROM:+0200
TZOFFSETTO:+0100
TZNAME:CET
DTSTART:20221030T010000
END:STANDARD
BEGIN:DAYLIGHT
TZOFFSETFROM:+0100
TZOFFSETTO:+0200
TZNAME:CEST
DTSTART:20230326T010000
END:DAYLIGHT
BEGIN:STANDARD
TZOFFSETFROM:+0200
TZOFFSETTO:+0100
TZNAME:CET
DTSTART:20231029T010000
END:STANDARD
END:VTIMEZONE
BEGIN:VEVENT
DTSTART;VALUE=DATE:20220427
DTEND;VALUE=DATE:20220609
DTSTAMP:20260424T013904
CREATED:20220406T091617Z
LAST-MODIFIED:20220412T112233Z
UID:13022-1651017600-1654732799@sct.webs.upv.es
SUMMARY:CONCURSO MUESTRA LA CIENCIA EN VÍDEO
DESCRIPTION:X Concurso Muestra la Ciencia en Vídeo – UPV Campus de Alcoy\nEl Campus d’ Alcoi de la Universitat Politècnica de València con la colaboración de la Fundación Española para la Ciencia y la Tecnología- Ministerio de Ciencia e Innovación\,  convoca para el presente curso académico 2021-2022 la X Concurso Muestra la Ciencia en Vídeo-  UPV Campus d´Alcoi dirigido a estudiantes de ESO\, Bachillerato y ciclos formativos\, enmarcado dentro del proyecto JÓVENES CONCIENCIA\, que tiene como objetivo promover las vocaciones científicas. \nEl concurso tiene como objetivo desarrollar un vídeo original e inédito de 3 o 4 minutos en los que se muestre un experimento cercano a la vida cotidiana relacionado con la física o la química\, realizado en los centros educativos de los estudiantes participantes. \nDirigido a diferentes categorías de participantes: \n\nEstudiantes de 1º y 2º ESO\nEstudiantes de 3º y 4º de ESO y Ciclos Formativos de Grado Medio y FP Básica\nEstudiantes de 1º y 2º de Bachillerato y Ciclos Formativos de Grado Superior\n\nPara realizar la PREINSCRIPCIÓN se debe rellenar el siguiente formulario antes del 27 abril 2022: https://forms.gle/gdEjVxrhj5JEWsHf9 \nLa entrega de PREMIOS se realizará el 8 de junio de 2022. \nPara cualquier aclaración o información complementaria\, no dudéis en contactar con nosotros en semanaciencia@epsa.upv.es \n\nPreinscripción:  hasta el 27 de abril de 2022 – Formulario de inscripción\nEnvío del video: hasta el 13 de mayo de 2022\nVotaciones profesorado y votación popular online: hasta el 27 de mayo de 2022\nEntrega de premios: 8 de junio de 2022\n\nDescarga las bases del concurso: \n\nBases en castellano\nBases en valenciano\n\nVídeos de anteriores ediciones: \n\nLista IX edición \nLista VIII edición
URL:https://sct.webs.upv.es/ca/event/muestra-la-ciencia-en-video/
LOCATION:Alicante
CATEGORIES:Concurso 21-22,JÓVENES CONCIENCIA 21-22
ATTACH;FMTTYPE=image/jpeg:https://sct.webs.upv.es/wp-content/uploads/2022/04/ciencia-libre.jpg
END:VEVENT
BEGIN:VEVENT
DTSTART;VALUE=DATE:20220429
DTEND;VALUE=DATE:20220611
DTSTAMP:20260424T013904
CREATED:20220406T092456Z
LAST-MODIFIED:20220412T112857Z
UID:13028-1651190400-1654905599@sct.webs.upv.es
SUMMARY:CONCURSO ECOJUGUETE
DESCRIPTION:II Concurso EcoJuguete – UPV Campus de Alcoy\nEl Campus d’ Alcoi de la Universitat Politècnica de València\, convoca para el presente curso académico 2021-2022 la II edición del CONCURSO DE DISEÑO ECOJUGUETE-  UPV Campus d´Alcoi dirigido a estudiantes de 1º y 2º de bachillerato científico\, tecnológico y/o artístico y ciclos formativos \nEl presente concurso tiene por objeto despertar el interés sobre la importancia que el diseño de productos tiene en la vida cotidiana y más concretamente en cómo el diseño puede conseguir un producto sostenible. Para participar en el concurso cada grupo debe de presentar el diseño de un producto cuya principal función consista en que sea ecológicamente mejor (con una gestión responsable de los residuos\, con un consumo energético responsable/evitando la contaminación….). La temática del diseño debe estar orientada a un puzzle o a un juguete desmontable tipo puzzle. \nSe trabajará en equipos de como máximo 2 estudiantes. \nPodrá elegirse la modalidad de participación: \nDiseño 2D.\nDiseño 3D. \nFECHAS IMPORTANTES \nPreinscripción hasta el 29 de abril 2022: Formulario de inscripción \nEntrega de trabajos y vídeo explicativo hasta el 27 de mayo 2022. \nEntrega de premios se realizará el 10 de junio 2022 \nDescarga las bases del concurso: \n\nBases en castellano\nBases en valenciano
URL:https://sct.webs.upv.es/ca/event/ecojuguete/
LOCATION:Alicante
CATEGORIES:Concurso 21-22,JÓVENES CONCIENCIA 21-22
ATTACH;FMTTYPE=image/jpeg:https://sct.webs.upv.es/wp-content/uploads/2022/04/Ecojuguete-scaled.jpg
END:VEVENT
BEGIN:VEVENT
DTSTART;VALUE=DATE:20220520
DTEND;VALUE=DATE:20220604
DTSTAMP:20260424T013904
CREATED:20220406T094002Z
LAST-MODIFIED:20220601T094645Z
UID:13038-1653004800-1654300799@sct.webs.upv.es
SUMMARY:CONCURSO ROBÓTICA
DESCRIPTION:IX Concurso Robótica – UPV Campus de Alcoy\nPreinscripción: Formulario de inscripción \nLa Universitat Politècnica de València-Campus d’Alcoi con la colaboración de la Fundación Española para la Ciencia y la Tecnología- Ministerio de Ciencia e Innovación\, organizan el IX CONCURSO ROBÓTICA MÓVIL enmarcado en el proyecto JÓVENES CONCIENCIA que tiene como objetivo fomentar las vocaciones científicas. \nEl concurso está dirigido a alumnos/as de ESO\, Bachillerato y Ciclos formativos de grado medio y superior. \n• Periodo de inscripción finaliza el 20 de mayo 2022. Las inscripciones se pueden realizar aquí. \n• Fecha del concurso y entrega de premios: 3 de junio 2022 \nPuedes consultar aquí la última edición del concurso. \nDescarga las bases. \nCon el objetivo de premiar el esfuerzo de los principiantes en base a los recursos disponibles\, los premios se otorgarán según distintas modalidades por categoría. Por ello\, para la modalidad siguelíneas LEGO tendremos premios al mejor de las categorías RCX\, NXT\, EV3 y SPIKE. En la categoría siguelíneas LIBRE los premios serán para los primeros de las categoría mosca (menos de 200 gr)\, pluma (entre 200 y 400 gr) y pesado (más de 400 gr). En la prueba de lucha\, tendremos premios para los tres primeros clasificados como hasta ahora (tanto en modalidad LEGO como LIBRE). Para la prueba del laberinto\, premiaremos al mejor robot de la modalidad LEGO y al mejor robot de la modalidad LIBRE.
URL:https://sct.webs.upv.es/ca/event/robotica/
LOCATION:Alicante
CATEGORIES:Concurso 21-22,JÓVENES CONCIENCIA 21-22
ATTACH;FMTTYPE=image/jpeg:https://sct.webs.upv.es/wp-content/uploads/2022/04/concurso-robotica.jpg
END:VEVENT
BEGIN:VEVENT
DTSTART;TZID=Europe/Madrid:20220603T211500
DTEND;TZID=Europe/Madrid:20220603T211500
DTSTAMP:20260424T013904
CREATED:20220601T091618Z
LAST-MODIFIED:20221207T082627Z
UID:13326-1654290900-1654290900@sct.webs.upv.es
SUMMARY:Observación astronómica
DESCRIPTION:Carlos Arribas Asociación astronómica de Alcoy \nEl universo: su grandeza y nuestra miseria\nVuelve la observación astronómica a la programación anual de la Semana de la Ciencia.  \nEl viernes 3 de junio en el paraje de Sant Antoni de Alcoy junto a la ermita. La actividad comenzará a las 21:15 h con esta conferencia y continuará con la observación astronómica con telescopios \nNo es necesaria la inscripción previa para esta actividad gratuita.\nLas actividades de la Semana de la Ciencia cuentan con la colaboración de la Fundación Española para la Ciencia y la Tecnología – Ministerio de Ciencia e Innovación\, y la Cátedra ‘Alcoi Ciudad del Conocimiento’.
URL:https://sct.webs.upv.es/ca/event/observacion-astronomica/
LOCATION:Paraje de Sant Antoni\, CV-7970\, 6\, Alcoi\, Alicante\, 03819\, España
CATEGORIES:Charla 21-22,Observación 21-22,SEMANA DE LA CIENCIA 21-22
ATTACH;FMTTYPE=image/jpeg:https://sct.webs.upv.es/wp-content/uploads/2022/06/observacion-astronomica.jpg
END:VEVENT
BEGIN:VEVENT
DTSTART;VALUE=DATE:20220606
DTEND;VALUE=DATE:20220611
DTSTAMP:20260424T013904
CREATED:20220412T102716Z
LAST-MODIFIED:20220530T154614Z
UID:13144-1654473600-1654905599@sct.webs.upv.es
SUMMARY:Talleres Semana Joven de la Ciencia
DESCRIPTION:Para estudiantes de 3º y 4º de la ESO\, 1º y 2º de Bachillerato y Ciclos Formativos de Grado Medio y Superior. \nLos talleres se realizarán del 6 al 10 de Junio de 2022 en el Campus d’Alcoi de la UPV\, en horario de 9:15 a 13:30 h. \n  \nItinerarios\n\nItinerario A: INGENIERÍA QUÍMICA\n\nTratamiento de aguas residuales urbanas\nQuímica del color\nInteractúa con la química\n\n\n\nItinerario B: INGENIERÍA MECÁNICA\n\nDiseño y fabricación digital\nTaller de robótica\nLos nuevos materiales: desde la Edad de Piedra a la Nanotecnología\n\n\n\nItinerario C: INGENIERÍA ELÉCTRICA Y ELECTRÓNICA\n\nEdison contra Tesla\nEnergías alternativas\nInternet de las cosas\n\n\n\nItinerario D: INGENIERÍA INFORMÁTICA\n\nInformática del siglo XXI\nRealidad virtual: La nueva experiencia inmersiva\nVideojuegos: más allá del ocio\n\n\n\nItinerario E: ADMINISTRACIÓN Y DIRECCIÓN DE EMPRESAS\n\nUsabilidad de páginas web en públicos jóvenes\nInfluencia de los youtubers y las redes sociales en la atención y emoción de los usuarios\n\n\n\nItinerario F: INGENIERÍA EN DISEÑO INDUSTRIAL Y DESARROLLO DE PRODUCTOS\n\nTaller de modelado y reproducción de modelos\n\n\n  \nIncripciones:\nSe deberá realizar una solicitud por clase (Las clases suelen rondar entre los 20 y 27 alumnos)\ncada clase podrá asistir a un itinerario por día (ya que cada itinerario engloba de 2 a 3 talleres de 9:15 a 13:30h) \nA continuación\, selecciona el día y completa el formulario para poder inscribirte\n\n\n\n\n\n\n\n\n\nLunes 6\nMartes 7\nMiércoles 8\nJueves 9\nViernes 10\n\n\n\n 
URL:https://sct.webs.upv.es/ca/event/semanajoven/
LOCATION:UPV Campus d’Alcoi\, Plaça Ferrándiz i Carbonell\, s/n\, Alcoi\, Alicante\, 03801\, España
CATEGORIES:JÓVENES CONCIENCIA 21-22,Taller 21-22
ATTACH;FMTTYPE=image/jpeg:https://sct.webs.upv.es/wp-content/uploads/2022/04/Cartel-Semana-Joven-22.jpg
END:VEVENT
BEGIN:VEVENT
DTSTART;TZID=Europe/Madrid:20220606T091500
DTEND;TZID=Europe/Madrid:20220606T133000
DTSTAMP:20260424T013904
CREATED:20220530T090956Z
LAST-MODIFIED:20220601T154428Z
UID:13234-1654506900-1654522200@sct.webs.upv.es
SUMMARY:Lunes 6 de Junio - Talleres Semana Joven de la Ciencia
DESCRIPTION:Talleres Semana Joven de la Ciencia: \n\n\n\n\n\n\n\n\n\nLunes 6\nMartes 7\nMiércoles 8\nJueves 9\nViernes 10\n\n\n\nSe deberá realizar una solicitud por clase (Las clases suelen rondar entre los 20 y 27 alumnos)\ncada clase podrá asistir a un itinerario por día (ya que cada itinerario engloba de 2 a 3 talleres de 9:15 a 13:30h) \nA continuación\, introduce tus datos y regístrate para acudir al evento
URL:https://sct.webs.upv.es/ca/event/talleres-sjc-6-de-junio/
LOCATION:UPV Campus d’Alcoi\, Plaça Ferrándiz i Carbonell\, s/n\, Alcoi\, Alicante\, 03801\, España
CATEGORIES:JÓVENES CONCIENCIA 21-22,Taller 21-22
END:VEVENT
BEGIN:VEVENT
DTSTART;TZID=Europe/Madrid:20220607T091500
DTEND;TZID=Europe/Madrid:20220607T133000
DTSTAMP:20260424T013904
CREATED:20220530T093926Z
LAST-MODIFIED:20220601T154438Z
UID:13250-1654593300-1654608600@sct.webs.upv.es
SUMMARY:Martes 7 de Junio - Talleres Semana Joven de la Ciencia
DESCRIPTION:Talleres Semana Joven de la Ciencia: \n\n\n\n\n\n\n\n\n\nLunes 6\nMartes 7\nMiércoles 8\nJueves 9\nViernes 10\n\n\n\nSe deberá realizar una solicitud por clase (Las clases suelen rondar entre los 20 y 27 alumnos)\ncada clase podrá asistir a un itinerario por día (ya que cada itinerario engloba de 2 a 3 talleres de 9:15 a 13:30h) \nA continuación\, introduce tus datos y regístrate para acudir al evento
URL:https://sct.webs.upv.es/ca/event/talleres-sjc-7-de-junio/
LOCATION:UPV Campus d’Alcoi\, Plaça Ferrándiz i Carbonell\, s/n\, Alcoi\, Alicante\, 03801\, España
CATEGORIES:JÓVENES CONCIENCIA 21-22,Taller 21-22
END:VEVENT
BEGIN:VEVENT
DTSTART;TZID=Europe/Madrid:20220608T091500
DTEND;TZID=Europe/Madrid:20220608T133000
DTSTAMP:20260424T013904
CREATED:20220530T101622Z
LAST-MODIFIED:20220601T154445Z
UID:13266-1654679700-1654695000@sct.webs.upv.es
SUMMARY:Miércoles 8 de Junio - Talleres Semana Joven de la Ciencia
DESCRIPTION:Talleres Semana Joven de la Ciencia: \n\n\n\n\n\n\n\n\n\nLunes 6\nMartes 7\nMiércoles 8\nJueves 9\nViernes 10\n\n\n\nSe deberá realizar una solicitud por clase (Las clases suelen rondar entre los 20 y 27 alumnos)\ncada clase podrá asistir a un itinerario por día (ya que cada itinerario engloba de 2 a 3 talleres de 9:15 a 13:30h) \nA continuación\, introduce tus datos y regístrate para acudir al evento
URL:https://sct.webs.upv.es/ca/event/talleres-sjc-8-de-junio/
LOCATION:UPV Campus d’Alcoi\, Plaça Ferrándiz i Carbonell\, s/n\, Alcoi\, Alicante\, 03801\, España
CATEGORIES:JÓVENES CONCIENCIA 21-22,Taller 21-22
END:VEVENT
BEGIN:VEVENT
DTSTART;TZID=Europe/Madrid:20220609T091500
DTEND;TZID=Europe/Madrid:20220609T133000
DTSTAMP:20260424T013904
CREATED:20220530T102259Z
LAST-MODIFIED:20220601T154501Z
UID:13268-1654766100-1654781400@sct.webs.upv.es
SUMMARY:Jueves 9 de Junio - Talleres Semana Joven de la Ciencia
DESCRIPTION:Talleres Semana Joven de la Ciencia: \n\n\n\n\n\n\n\n\n\nLunes 6\nMartes 7\nMiércoles 8\nJueves 9\nViernes 10\n\n\n\nSe deberá realizar una solicitud por clase (Las clases suelen rondar entre los 20 y 27 alumnos)\ncada clase podrá asistir a un itinerario por día (ya que cada itinerario engloba de 2 a 3 talleres de 9:15 a 13:30h) \nA continuación\, introduce tus datos y regístrate para acudir al evento
URL:https://sct.webs.upv.es/ca/event/talleres-sjc-9-de-junio/
LOCATION:UPV Campus d’Alcoi\, Plaça Ferrándiz i Carbonell\, s/n\, Alcoi\, Alicante\, 03801\, España
CATEGORIES:JÓVENES CONCIENCIA 21-22,Taller 21-22
END:VEVENT
BEGIN:VEVENT
DTSTART;TZID=Europe/Madrid:20220609T193000
DTEND;TZID=Europe/Madrid:20220609T193000
DTSTAMP:20260424T013904
CREATED:20220606T103540Z
LAST-MODIFIED:20220606T150648Z
UID:13407-1654803000-1654803000@sct.webs.upv.es
SUMMARY:Caferencias
DESCRIPTION:
URL:https://sct.webs.upv.es/ca/event/caferencias/
LOCATION:Plaza Ferrandiz y Carbonell\, Plaça Ferrándiz i Carbonell\, s/n\, Alcoi\, Alicante\, 03801\, España
CATEGORIES:Charla 21-22,Conferencia 21-22
ATTACH;FMTTYPE=image/jpeg:https://sct.webs.upv.es/wp-content/uploads/2022/06/CAFERENCIAS-UPV-SC2022_3.jpg
END:VEVENT
BEGIN:VEVENT
DTSTART;TZID=Europe/Madrid:20220610T091500
DTEND;TZID=Europe/Madrid:20220610T133000
DTSTAMP:20260424T013904
CREATED:20220530T103609Z
LAST-MODIFIED:20220601T154511Z
UID:13274-1654852500-1654867800@sct.webs.upv.es
SUMMARY:Viernes 10 de Junio - Talleres Semana Joven de la Ciencia
DESCRIPTION:Talleres Semana Joven de la Ciencia: \n\n\n\n\n\n\n\n\n\nLunes 6\nMartes 7\nMiércoles 8\nJueves 9\nViernes 10\n\n\n\nSe deberá realizar una solicitud por clase (Las clases suelen rondar entre los 20 y 27 alumnos)\ncada clase podrá asistir a un itinerario por día (ya que cada itinerario engloba de 2 a 3 talleres de 9:15 a 13:30h) \nA continuación\, introduce tus datos y regístrate para acudir al evento
URL:https://sct.webs.upv.es/ca/event/talleres-sjc-10-de-junio/
LOCATION:UPV Campus d’Alcoi\, Plaça Ferrándiz i Carbonell\, s/n\, Alcoi\, Alicante\, 03801\, España
CATEGORIES:JÓVENES CONCIENCIA 21-22,Taller 21-22
END:VEVENT
BEGIN:VEVENT
DTSTART;VALUE=DATE:20220613
DTEND;VALUE=DATE:20220618
DTSTAMP:20260424T013904
CREATED:20220412T102815Z
LAST-MODIFIED:20220601T163204Z
UID:13146-1655078400-1655510399@sct.webs.upv.es
SUMMARY:La Magia de la Ciencia
DESCRIPTION:Para estudiantes de 5º y 6º de Primaria. \nLos talleres se realizarán del 13 al 17 de Junio de 2022 en el Campus d’Alcoi de la UPV\, en horario de 9:15 a 12:30 h. \n  \nItinerarios\n\nItinerario A: VIAJE AL INTERIOR DE LAS MÁQUINAS\n\nLos materiales mágicos\nCómo funcionan las cosas\n\n\n\nItinerario B: EL FUTURO YA ESTÁ AQUÍ\n\n\n\nRobotix: iniciación a la robótica\nHacia la Nueva Generación digital\n\n\n\n\n  \nIncripciones:\nSe deberá realizar una solicitud por clase (Las clases suelen rondar entre los 20 y 27 alumnos)\ncada clase podrá asistir a un itinerario por día (ya que cada itinerario engloba de 2 talleres de 9:15 a 12:30h) \nA continuación\, selecciona el día y completa el formulario para poder inscribirte\n\n\n\n\n\n\n\n\n\nLunes 13\nMartes 14\nMiércoles 15\nJueves 16\nViernes 17\n\n\n\n 
URL:https://sct.webs.upv.es/ca/event/magia/
LOCATION:UPV Campus d’Alcoi\, Plaça Ferrándiz i Carbonell\, s/n\, Alcoi\, Alicante\, 03801\, España
CATEGORIES:JÓVENES CONCIENCIA 21-22,Taller 21-22
ATTACH;FMTTYPE=image/jpeg:https://sct.webs.upv.es/wp-content/uploads/2022/04/Cartel-La-Magia-de-la-Ciencia-22.jpg
END:VEVENT
BEGIN:VEVENT
DTSTART;TZID=Europe/Madrid:20220613T091500
DTEND;TZID=Europe/Madrid:20220613T123000
DTSTAMP:20260424T013904
CREATED:20220601T144221Z
LAST-MODIFIED:20220601T163145Z
UID:13349-1655111700-1655123400@sct.webs.upv.es
SUMMARY:Lunes 13 de Junio - Talleres La Magia de la Ciencia
DESCRIPTION:Talleres Magia de la Ciencia: \n\n\n\n\n\n\n\n\n\nLunes 13\nMartes 14\nMiércoles 15\nJueves 16\nViernes 17\n\n\n\nSe deberá realizar una solicitud por clase (Las clases suelen rondar entre los 20 y 27 alumnos)\ncada clase podrá asistir a un itinerario por día (ya que cada itinerario engloba de 2 talleres de 9:15 a 12:30h) \nA continuación\, introduce tus datos y regístrate para acudir al evento
URL:https://sct.webs.upv.es/ca/event/talleres-mc-13-de-junio/
LOCATION:UPV Campus d’Alcoi\, Plaça Ferrándiz i Carbonell\, s/n\, Alcoi\, Alicante\, 03801\, España
CATEGORIES:JÓVENES CONCIENCIA 21-22,Taller 21-22
END:VEVENT
BEGIN:VEVENT
DTSTART;TZID=Europe/Madrid:20220614T091500
DTEND;TZID=Europe/Madrid:20220614T123000
DTSTAMP:20260424T013904
CREATED:20220601T144910Z
LAST-MODIFIED:20220601T163135Z
UID:13354-1655198100-1655209800@sct.webs.upv.es
SUMMARY:Martes 14 de Junio - Talleres La Magia de la Ciencia
DESCRIPTION:Talleres Magia de la Ciencia: \n\n\n\n\n\n\n\n\n\nLunes 13\nMartes 14\nMiércoles 15\nJueves 16\nViernes 17\n\n\n\nSe deberá realizar una solicitud por clase (Las clases suelen rondar entre los 20 y 27 alumnos)\ncada clase podrá asistir a un itinerario por día (ya que cada itinerario engloba de 2 talleres de 9:15 a 12:30h) \nA continuación\, introduce tus datos y regístrate para acudir al evento
URL:https://sct.webs.upv.es/ca/event/talleres-mc-14-de-junio/
LOCATION:UPV Campus d’Alcoi\, Plaça Ferrándiz i Carbonell\, s/n\, Alcoi\, Alicante\, 03801\, España
CATEGORIES:JÓVENES CONCIENCIA 21-22,Taller 21-22
END:VEVENT
BEGIN:VEVENT
DTSTART;TZID=Europe/Madrid:20220615T091500
DTEND;TZID=Europe/Madrid:20220615T123000
DTSTAMP:20260424T013904
CREATED:20220601T145337Z
LAST-MODIFIED:20220601T163128Z
UID:13358-1655284500-1655296200@sct.webs.upv.es
SUMMARY:Miércoles 15 de Junio - Talleres La Magia de la Ciencia
DESCRIPTION:Talleres Magia de la Ciencia: \n\n\n\n\n\n\n\n\n\nLunes 13\nMartes 14\nMiércoles 15\nJueves 16\nViernes 17\n\n\n\nSe deberá realizar una solicitud por clase (Las clases suelen rondar entre los 20 y 27 alumnos)\ncada clase podrá asistir a un itinerario por día (ya que cada itinerario engloba de 2 talleres de 9:15 a 12:30h) \nA continuación\, introduce tus datos y regístrate para acudir al evento
URL:https://sct.webs.upv.es/ca/event/talleres-mc-15-de-junio/
LOCATION:UPV Campus d’Alcoi\, Plaça Ferrándiz i Carbonell\, s/n\, Alcoi\, Alicante\, 03801\, España
CATEGORIES:JÓVENES CONCIENCIA 21-22,Taller 21-22
END:VEVENT
BEGIN:VEVENT
DTSTART;TZID=Europe/Madrid:20220616T091500
DTEND;TZID=Europe/Madrid:20220616T123000
DTSTAMP:20260424T013904
CREATED:20220601T145854Z
LAST-MODIFIED:20220601T162452Z
UID:13361-1655370900-1655382600@sct.webs.upv.es
SUMMARY:Jueves 16 de Junio - Talleres La Magia de la Ciencia
DESCRIPTION:Talleres Magia de la Ciencia: \n\n\n\n\n\n\n\n\n\nLunes 13\nMartes 14\nMiércoles 15\nJueves 16\nViernes 17\n\n\n\nSe deberá realizar una solicitud por clase (Las clases suelen rondar entre los 20 y 27 alumnos)\ncada clase podrá asistir a un itinerario por día (ya que cada itinerario engloba de 2 talleres de 9:15 a 12:30h) \nA continuación\, introduce tus datos y regístrate para acudir al evento
URL:https://sct.webs.upv.es/ca/event/talleres-mc-16-de-junio/
LOCATION:UPV Campus d’Alcoi\, Plaça Ferrándiz i Carbonell\, s/n\, Alcoi\, Alicante\, 03801\, España
CATEGORIES:JÓVENES CONCIENCIA 21-22,Taller 21-22
END:VEVENT
BEGIN:VEVENT
DTSTART;TZID=Europe/Madrid:20220617T091500
DTEND;TZID=Europe/Madrid:20220617T123000
DTSTAMP:20260424T013904
CREATED:20220601T150903Z
LAST-MODIFIED:20220608T132631Z
UID:13365-1655457300-1655469000@sct.webs.upv.es
SUMMARY:Viernes 17 de Junio - Talleres La Magia de la Ciencia
DESCRIPTION:Talleres Magia de la Ciencia: \n\n\n\n\n\n\n\n\n\nLunes 13\nMartes 14\nMiércoles 15\nJueves 16\nViernes 17\n\n\n\nSe deberá realizar una solicitud por clase (Las clases suelen rondar entre los 20 y 27 alumnos)\ncada clase podrá asistir a un itinerario por día (ya que cada itinerario engloba de 2 talleres de 9:15 a 12:30h) \nA continuación\, introduce tus datos y regístrate para acudir al evento
URL:https://sct.webs.upv.es/ca/event/talleres-mc-17-de-junio/
LOCATION:UPV Campus d’Alcoi\, Plaça Ferrándiz i Carbonell\, s/n\, Alcoi\, Alicante\, 03801\, España
CATEGORIES:JÓVENES CONCIENCIA 21-22,Taller 21-22
END:VEVENT
BEGIN:VEVENT
DTSTART;TZID=Europe/Madrid:20220629T190000
DTEND;TZID=Europe/Madrid:20220629T203000
DTSTAMP:20260424T013904
CREATED:20220412T101106Z
LAST-MODIFIED:20220614T085518Z
UID:13137-1656529200-1656534600@sct.webs.upv.es
SUMMARY:TEATRO CIENTÍFICO - Jugando con Fuego
DESCRIPTION:A continuación\, introduce tus datos y regístrate para acudir al evento \nDebe realizarse una inscripción por asistente\nEn el caso de querer registrar a varias personas se puede utilizar un mismo correo y teléfono
URL:https://sct.webs.upv.es/ca/event/teatro-cientifico/
LOCATION:Teatre Salesians\, Plaça Mossèn Josep 1\, Alcoi\, Alicante\, 03801
CATEGORIES:JÓVENES CONCIENCIA 21-22,Teatro 21-22
ATTACH;FMTTYPE=image/jpeg:https://sct.webs.upv.es/wp-content/uploads/2022/04/jugando-con-fuego-fix.jpg
END:VEVENT
END:VCALENDAR